BEGIN:VCALENDAR
VERSION:2.0
PRODID:-//eventon.com NONSGML v1.0//EN
CALSCALE:GREGORIAN
METHOD:PUBLISH
BEGIN:VEVENT
UID:69eaf3cd9a561
DTSTAMP:20260424T043837Z
DTSTART:20260530T190000Z
DTEND:20260531T025900Z
LOCATION:PAD-DF – BR-251\,  Km 06 – Paranoá\,  Brasília/DF – Villa Triacca
SUMMARY:Corrida do Vinho Expovits Brasil 2026
DESCRIPTION:SOBRE O EVENTO 📅 Data: Sábado\,  30/05/2026📍 Local: PAD-
 DF – BR-251\,  Km 06 – Paranoá\,  Brasília/DF – Villa Triacca⏰ La
 rgada: 16h00 (Horário de Brasília)📏 Distância: aproximadamente 6 km
  Tempo máximo de prova: 1h30 (atletas fora do tempo projetado poderão se
 r convidados a se retirar)💰 Valor da inscrição: R$489\, 90&nbsp;📣 R
 esultados: computados[..]\nhttps://correrbrasilia.com.br/events/corrida-do-
 vinho-expovits-brasil-2026/
URL:https://correrbrasilia.com.br/events/corrida-do-vinho-expovits-brasil-2026/
END:VEVENT
END:VCALENDAR