BEGIN:VCALENDAR
VERSION:2.0
PRODID:-//eventon.com NONSGML v1.0//EN
CALSCALE:GREGORIAN
METHOD:PUBLISH
BEGIN:VEVENT
UID:69eaf41b911e0
DTSTAMP:20260424T043955Z
DTSTART:20260621T093000Z
DTEND:20260622T025900Z
LOCATION:Momma Doces Saudáveis CLS 306\,  Bl. B\,  Loja 10 – Asa Sul\,  Brasília/DF
SUMMARY:Momma Run
DESCRIPTION:DEFINA SEU PRÓPRIO COMPASSO O Momma Run&nbsp;é o encontro per
 feito entre bem-estar e celebração. Muito mais que uma corrida\,  esta é
  uma experiência exclusiva desenhada para quem deseja equilibrar a perform
 ance com o prazer de viver bem. Aqui\,  o objetivo é único: celebrar o se
 u ritmo e fortalecer sua conexão[..]\nhttps://correrbrasilia.com.br/events
 /momma-run/
URL:https://correrbrasilia.com.br/events/momma-run/
END:VEVENT
END:VCALENDAR