BEGIN:VCALENDAR
VERSION:2.0
PRODID:-//eventon.com NONSGML v1.0//EN
CALSCALE:GREGORIAN
METHOD:PUBLISH
BEGIN:VEVENT
UID:69eaf3f1da54e
DTSTAMP:20260424T043913Z
DTSTART:20260509T120000Z
DTEND:20260510T025900Z
LOCATION:SQN 416 (Asa Norte)
SUMMARY:5º Treino Se Orienta DF - Sprint
DESCRIPTION:SOBRE O EVENTO Data: 9 de maio de 2026 Horários09:00 – Iníc
 io das partidas11:00 &#8211; Encerramento das partidas LOCALConcentração:
  SQN 416 (Asa Norte) Percurso:&nbsp;SQN 416 e Parque Olhos D&#8217;água KI
 T DE PARTICIPAÇÃO Chip eletrônico de cronometragem (deverá ser devolvid
 o ao final da prova)Mapa colorido e  impermeabilizado do percursoEmprésti
 mo de bússolaMini[..]\nhttps://correrbrasilia.com.br/events/5o-treino-se-o
 rienta-df-sprint/
URL:https://correrbrasilia.com.br/events/5o-treino-se-orienta-df-sprint/
END:VEVENT
END:VCALENDAR