BEGIN:VCALENDAR
VERSION:2.0
PRODID:-//eventon.com NONSGML v1.0//EN
CALSCALE:GREGORIAN
METHOD:PUBLISH
BEGIN:VEVENT
UID:69eaf52e4f118
DTSTAMP:20260424T044430Z
DTSTART:20260509T110000Z
DTEND:20260510T025900Z
LOCATION:Parque da Cidade - Estacionamento 07
SUMMARY:SESC+Corridinhas - Etapa Dia Das Mães 2026
DESCRIPTION:SESC+CORRIDINHAS – etapa DIA DAS MÃES O evento tem por final
 idade proporcionar uma experiência esportiva e recreativa para crianças d
 e 3 a 10 anos\,  incentivando desde cedo a prática de atividades físicas 
 de forma lúdica e educativa. Em alusão ao Dia das Mães\,  a corrida busc
 a fortalecer os laços familiares[..]\nhttps://correrbrasilia.com.br/events
 /sesccorridinhas-etapa-dia-das-maes-2026/
URL:https://correrbrasilia.com.br/events/sesccorridinhas-etapa-dia-das-maes-2026/
END:VEVENT
END:VCALENDAR