BEGIN:VCALENDAR
VERSION:2.0
PRODID:-//eventon.com NONSGML v1.0//EN
CALSCALE:GREGORIAN
METHOD:PUBLISH
BEGIN:VEVENT
UID:69eaf3f10557f
DTSTAMP:20260424T043913Z
DTSTART:20261122T100000Z
DTEND:20261123T025900Z
LOCATION:Plano Piloto – Distrito Federal
SUMMARY:Corre Que Dá Bom Pelo Mundo - Etapa Japão
DESCRIPTION:INFORMAÇÕES GERAIS A Etapa Japão marca o grandioso encerrame
 nto do Circuito Corre Que Dá Bom Pelo Mundo\,  sendo o último e mais simb
 ólico percurso dessa jornada que atravessou culturas\,  histórias e desti
 nos inesquecíveis. No dia 22 de novembro\,  o Plano Piloto será palco de 
 um momento único\,  onde cada passo[..]\nhttps://correrbrasilia.com.br/eve
 nts/corre-que-da-bom-pelo-mundo-etapa-japao/
URL:https://correrbrasilia.com.br/events/corre-que-da-bom-pelo-mundo-etapa-japao/
END:VEVENT
END:VCALENDAR