BEGIN:VCALENDAR
VERSION:2.0
PRODID:-//eventon.com NONSGML v1.0//EN
CALSCALE:GREGORIAN
METHOD:PUBLISH
BEGIN:VEVENT
UID:69eaf40ba3598
DTSTAMP:20260424T043939Z
DTSTART:20260906T100000Z
DTEND:20260907T025900Z
LOCATION:Plano Piloto – Distrito Federal
SUMMARY:Corre Que Dá Bom Pelo Mundo - Etapa França
DESCRIPTION:INFORMAÇÕES GERAIS Corrida Etapa França – Circuito Corre q
 ue Dá Bom pelo Mundo Prepare-se para uma experiência esportiva inesquecí
 vel! No dia 06 de setembro de 2026\,  o Plano Piloto\,  em Brasília/DF\,  
 será palco da Corrida Etapa França\,  uma prova de rua que une esporte\, 
  cultura e entretenimento em um ambiente[..]\nhttps://correrbrasilia.com.br
 /events/corre-que-da-bom-pelo-mundo-etapa-franca/
URL:https://correrbrasilia.com.br/events/corre-que-da-bom-pelo-mundo-etapa-franca/
END:VEVENT
END:VCALENDAR