BEGIN:VCALENDAR
VERSION:2.0
PRODID:-//eventon.com NONSGML v1.0//EN
CALSCALE:GREGORIAN
METHOD:PUBLISH
BEGIN:VEVENT
UID:69e51997ba0e0
DTSTAMP:20260419T180615Z
DTSTART:20260815T220000Z
DTEND:20260816T025900Z
LOCATION:Plano Piloto – Distrito Federal
SUMMARY:Pink Night Run
DESCRIPTION:INFORMAÇÕES GERAIS 🌸 Pink Night Run – Corrida Feminina N
 o dia 15 de agosto de 2026\,  prepare-se para viver uma experiência única
  com a Pink Night\,  uma corrida que celebra a força\,  a união e o prota
 gonismo feminino\,  mas que também está aberta a toda a população que d
 eseja apoiar[..]\nhttps://correrbrasilia.com.br/events/pink-night-run/
URL:https://correrbrasilia.com.br/events/pink-night-run/
END:VEVENT
END:VCALENDAR