BEGIN:VCALENDAR
VERSION:2.0
PRODID:-//eventon.com NONSGML v1.0//EN
CALSCALE:GREGORIAN
METHOD:PUBLISH
BEGIN:VEVENT
UID:69e9da9fadcd6
DTSTAMP:20260423T083855Z
DTSTART:20260524T110000Z
DTEND:20260525T025900Z
LOCATION:Esplanada dos Ministérios Museu Nacional da República
SUMMARY:Corrida Sindjus 36 Anos
DESCRIPTION:INFORMAÇÕES GERAIS Em 2026\,  o Sindjus completa 36 anos e a 
 celebração será em grande estilo: com muito movimento\,  saúde e união
 ! Vem aí a Corrida Sindjus 36 Anos\,  um evento que vai reunir associados\
 ,  familiares e a comunidade para um dia especial na Esplanada dos Ministé
 rios\,  em Brasília/DF\,  no[..]\nhttps://correrbrasilia.com.br/events/cor
 rida-sindjus-36-anos/
URL:https://correrbrasilia.com.br/events/corrida-sindjus-36-anos/
END:VEVENT
END:VCALENDAR