BEGIN:VCALENDAR
VERSION:2.0
PRODID:-//eventon.com NONSGML v1.0//EN
CALSCALE:GREGORIAN
METHOD:PUBLISH
BEGIN:VEVENT
UID:69eaf40c0992f
DTSTAMP:20260424T043940Z
DTSTART:20260913T100000Z
DTEND:20260914T025900Z
LOCATION:Esplanada dos Ministérios\,  estacionamento do bloco F\,  ed. sede do Ministério do Trabalho e Emprego Asa Norte - Plano Piloto\,  Brasília - DF\,  70056-900
SUMMARY:Corrida do Trabalhador – FGTS 60 anos
DESCRIPTION:Um evento público para celebrar direitos\,  trabalho e bem-es
 tar. A Corrida do Trabalhador – FGTS 60 anos&nbsp;é um evento esportivo 
 e cívico no&nbsp;Dia do Trabalhador\,  na&nbsp;Esplanada dos Ministérios\
 ,  estacionamento do bloco F\,  ed. sede do Ministério do Trabalho e Empre
 go\, &nbsp;para celebrar os 60 anos do&nbsp;FGTS e valorizar quem move o Br
 asil.\nhttps://correrbrasilia.com.br/events/corrida-do-trabalhador-fgts-60-
 anos/
URL:https://correrbrasilia.com.br/events/corrida-do-trabalhador-fgts-60-anos/
END:VEVENT
END:VCALENDAR