BEGIN:VCALENDAR
VERSION:2.0
PRODID:-//eventon.com NONSGML v1.0//EN
CALSCALE:GREGORIAN
METHOD:PUBLISH
BEGIN:VEVENT
UID:69e9ee6f571dc
DTSTAMP:20260423T100327Z
DTSTART:20260627T200000Z
DTEND:20260628T025900Z
LOCATION:Esplanada dos Ministérios\,  no estacionamento do Bloco K Ministério da Gestão e da Inovação em Serviços Públicos
SUMMARY:III Corrida ColaboraGov
DESCRIPTION:A III Corrida ColaboraGov é um evento criado para promover qua
 lidade de vida\,  integração e bem-estar entre servidores públicos e sua
 s famílias. Realizada em Brasília e com participação em todo o país po
 r meio da modalidade virtual\,  a iniciativa reúne milhares de participant
 es em percursos de corrida e caminhada. O[..]\nhttps://correrbrasilia.com.b
 r/events/iii-corrida-colaboragov/
URL:https://correrbrasilia.com.br/events/iii-corrida-colaboragov/
END:VEVENT
END:VCALENDAR