BEGIN:VCALENDAR
VERSION:2.0
PRODID:-//eventon.com NONSGML v1.0//EN
CALSCALE:GREGORIAN
METHOD:PUBLISH
BEGIN:VEVENT
UID:69e9304261193
DTSTAMP:20260422T203202Z
DTSTART:20260606T220000Z
DTEND:20260607T025900Z
LOCATION:Praça do Buriti Zona Cívico-Administrativa - Brasília\,  DF\,  70297-400
SUMMARY:Capital Night
DESCRIPTION:Prepare-se para viver uma experiência única nas ruas da capit
 al! 🌃🏃‍♂️ A Capital Night chega para iluminar a noite de Brasí
 lia com energia e muito esporte. No dia 06 de junho de 2026\,  às 19h\,  a
  largada será na icônica Praça do Buriti\,  reunindo atletas de todos os
  níveis em[..]\nhttps://correrbrasilia.com.br/events/capital-night/
URL:https://correrbrasilia.com.br/events/capital-night/
END:VEVENT
END:VCALENDAR