BEGIN:VCALENDAR
VERSION:2.0
PRODID:-//eventon.com NONSGML v1.0//EN
CALSCALE:GREGORIAN
METHOD:PUBLISH
BEGIN:VEVENT
UID:69e9b56c40550
DTSTAMP:20260423T060012Z
DTSTART:20260531T100000Z
DTEND:20260531T120000Z
LOCATION:Steak US Burger Q. 16\,  02 - Quadra 15\,  26 - Valparaizo I\,  Valparaíso de Goiás - GO\,  72876-480
SUMMARY:Speed Burguer Run
DESCRIPTION:SPEED BURGUER RUN LOCAL: STEAK US BURGER Valparaíso (Ao lado d
 a Abrantes distribuidora) Data: 31 de maio de 2026 Largada 7hs &nbsp;Prepar
 e-se pra correr… e viver a experiência completa: &#8211; Camiseta oficia
 l do evento&#8211; 7 dias grátis de academia (Smart Fit) (200 primeiros)&#
 8211; Garrafa personalizada (200 primeiros)&#8211; Bag exclusiva do evento
 &#8211;[..]\nhttps://correrbrasilia.com.br/events/speed-burguer-run/
URL:https://correrbrasilia.com.br/events/speed-burguer-run/
END:VEVENT
END:VCALENDAR