BEGIN:VCALENDAR
VERSION:2.0
PRODID:-//eventon.com NONSGML v1.0//EN
CALSCALE:GREGORIAN
METHOD:PUBLISH
BEGIN:VEVENT
UID:69eaf40b395de
DTSTAMP:20260424T043939Z
DTSTART:20261011T090000Z
DTEND:20261012T025900Z
LOCATION:W3 Sul\,  na altura da 716 Sul
SUMMARY:CMBRUN 2026 - 3ª Edição
DESCRIPTION:INFORMAÇÕES GERAIS Prepare-se para viver uma experiência ún
 ica de superação\,  saúde\,  inclusão e diversão! A CMB Run 2026 está
  chegando para movimentar Brasília e reunir atletas\,  corredores casuais 
 e caminhantes em um evento inesquecível e peculiar.⏳ Tempo máximo da pr
 ova: 90 minutos🏁 Distâncias: 10Km (corrida) e 5km (corrida)📍 Local: 
 W3[..]\nhttps://correrbrasilia.com.br/events/cmbrun-2026-3a-edicao/
URL:https://correrbrasilia.com.br/events/cmbrun-2026-3a-edicao/
END:VEVENT
END:VCALENDAR