BEGIN:VCALENDAR
VERSION:2.0
PRODID:-//eventon.com NONSGML v1.0//EN
CALSCALE:GREGORIAN
METHOD:PUBLISH
BEGIN:VEVENT
UID:69eaf6f1941c0
DTSTAMP:20260424T045201Z
DTSTART:20260517T120000Z
DTEND:20260518T025900Z
LOCATION:BrasÃ­lia Country Club Park Way QUADRA 27 Conj. 03 Lote Clube - Park Way\,  BrasÃ­lia - DF\,  71745-703
SUMMARY:Campeonato de OrientaÃ§Ã£o do Distrito Federal â€“ 2Âª Etapa
DESCRIPTION:SOBRE O EVENTO Data: 17 de maio de 2026HorÃ¡rios08:30 â€“ Cerim
 Ã´nia de abertura09:00 â€“ InÃ­cio das partidas LOCAL BrasÃ­lia Country Clu
 bPark Way\,  BrasÃ­lia &#8211; DF KIT DO ATLETA Medalha de FinisherChip de 
 cronometragem (deverÃ¡ ser devolvido ao final da prova)Mapa colorido do per
 curso impermeabilizadoHidrataÃ§Ã£o pÃ³s prova (Ã¡gua gelada e frutas)ServiÃ
 §o[..]\nhttps://correrbrasilia.com.br/events/campeonato-de-orientacao-do-di
 strito-federal-2a-etapa/
URL:https://correrbrasilia.com.br/events/campeonato-de-orientacao-do-distrito-federal-2a-etapa/
END:VEVENT
END:VCALENDAR