BEGIN:VCALENDAR
VERSION:2.0
PRODID:-//eventon.com NONSGML v1.0//EN
CALSCALE:GREGORIAN
METHOD:PUBLISH
BEGIN:VEVENT
UID:69eb1dbcc3e07
DTSTAMP:20260424T073732Z
DTSTART:20260405T120000Z
DTEND:20260406T025900Z
LOCATION:APA Córrego do Urubu (ao lado da Torre de TV Digital)
SUMMARY:4º Treino Se Orienta DF - Floresta
DESCRIPTION:SOBRE O EVENTO Data: 5 de abril de 2026Horários09:00 – Iníc
 io das partidas11:00 &#8211; Encerramento das partidas LOCAL APA Córrego d
 o UrubuDF 001\,  KM 04 (ao lado da Torre de TV Digital)Setor Habitacional T
 aquari &#8211; Lago Norte\,  Brasília &#8211; DF KIT DE PARTICIPAÇÃO Chi
 p de cronometragem (deverá ser devolvido ao[..]\nhttps://correrbrasilia.co
 m.br/events/4o-treino-se-orienta-df-floresta/
URL:https://correrbrasilia.com.br/events/4o-treino-se-orienta-df-floresta/
END:VEVENT
END:VCALENDAR