BEGIN:VCALENDAR
VERSION:2.0
PRODID:-//eventon.com NONSGML v1.0//EN
CALSCALE:GREGORIAN
METHOD:PUBLISH
BEGIN:VEVENT
UID:69eaf3f11361c
DTSTAMP:20260424T043913Z
DTSTART:20261129T100000Z
DTEND:20261130T025900Z
LOCATION:Praça do Buriti Zona Cívico-Administrativa - Brasília\,  DF\,  70297-400
SUMMARY:CORRIDA E CAMINHADA INCLUSÃO A TODA PROVA DF 2026
DESCRIPTION:CONHEÇA NOSSOS KITS KIT INCLUSÃO:&nbsp;Sacola\,  camiseta\,  
 squeeze e medalha (entregue ao final do evento). TABELA DE MEDIDAS CLIQUE A
 QUI&nbsp;para acessar a TABELA DE MEDIDAS. MAPA DO PERCURSO Em breve. RETIR
 ADA DE KIT A entrega dos kits acontecerá em data\,  escolhida pelo(a) atle
 ta no ato da inscrição\,  evitando assim aglomerações. Local[..]\nhttps
 ://correrbrasilia.com.br/events/corrida-e-caminhada-inclusao-a-toda-prova-d
 f-2026/
URL:https://correrbrasilia.com.br/events/corrida-e-caminhada-inclusao-a-toda-prova-df-2026/
END:VEVENT
END:VCALENDAR