BEGIN:VCALENDAR
VERSION:2.0
PRODID:-//eventon.com NONSGML v1.0//EN
CALSCALE:GREGORIAN
METHOD:PUBLISH
BEGIN:VEVENT
UID:69eaf52dc65c4
DTSTAMP:20260424T044429Z
DTSTART:20260501T100000Z
DTEND:20260502T025900Z
LOCATION:Esplanada dos Ministérios Museu Nacional da República
SUMMARY:Corrida 100% Você - Brasília
DESCRIPTION:\nhttps://correrbrasilia.com.br/events/corrida-100-voce-brasili
 a-2/
URL:https://correrbrasilia.com.br/events/corrida-100-voce-brasilia-2/
END:VEVENT
END:VCALENDAR