BEGIN:VCALENDAR
VERSION:2.0
PRODID:-//eventon.com NONSGML v1.0//EN
CALSCALE:GREGORIAN
METHOD:PUBLISH
BEGIN:VEVENT
UID:69eaf90ddae83
DTSTAMP:20260424T050101Z
DTSTART:20260726T100000Z
DTEND:20260727T025900Z
LOCATION:Esplanada dos Ministérios Museu Nacional da República
SUMMARY:ASICS RUN CHALLENGE - ETAPA BRASÍLIA
DESCRIPTION:SOBRE O EVENTO A etapa de Brasília recebe a energia da&nbsp;AS
 ICS Run Challenge&nbsp;em um dos cenários mais emblemáticos do país. Mai
 s do que uma corrida\,  o circuito é um convite para evoluir &#8211; da pr
 eparação à ascensão. Em sua segunda edição\,  o evento ocorre em seis
  cidades pelo Brasil e[..]\nhttps://correrbrasilia.com.br/events/asics-run-
 challenge-etapa-brasilia/
URL:https://correrbrasilia.com.br/events/asics-run-challenge-etapa-brasilia/
END:VEVENT
END:VCALENDAR