BEGIN:VCALENDAR
VERSION:2.0
PRODID:-//eventon.com NONSGML v1.0//EN
CALSCALE:GREGORIAN
METHOD:PUBLISH
BEGIN:VEVENT
UID:69eaf52db7cc9
DTSTAMP:20260424T044429Z
DTSTART:20260530T190000Z
DTEND:20260530T235900Z
LOCATION:Parque da Cidade Sarah Kubitschek SRPS Asa Sul\,  Brasília\,  DF
SUMMARY:CORRE QUE É SÃO JOÃO
DESCRIPTION:INFORMAÇÕES GERAIS Nome do evento: CORRE QUE É SÃO JOÃODat
 a e hora: 30/05/2026 &#8211; 19:00Localização: BRASILIA &#8211; DFTelefon
 e: (61)9 8467.9932Whatsapp: (61)9 8467.9932 Depois do sucesso da primeira e
 dição\,  a CORRE QUE É SÃO JOÃO está de volta!Ano passado foi incrív
 el… e em 2026 vai ser ainda melhor! 💛💥 Vem correr[..]\nhttps://corr
 erbrasilia.com.br/events/corre-que-e-sao-joao-2/
URL:https://correrbrasilia.com.br/events/corre-que-e-sao-joao-2/
END:VEVENT
END:VCALENDAR