BEGIN:VCALENDAR
VERSION:2.0
PRODID:-//eventon.com NONSGML v1.0//EN
CALSCALE:GREGORIAN
METHOD:PUBLISH
BEGIN:VEVENT
UID:69eaf8ee17a79
DTSTAMP:20260424T050030Z
DTSTART:20260509T200000Z
DTEND:20260510T025900Z
LOCATION:Esplanada dos Ministérios Museu Nacional da República
SUMMARY:19ª Corrida União Europeia - Sunset Edition
DESCRIPTION:INFORMAÇÕES GERAIS Nome do evento: 19ª Corrida União Europe
 ia &#8211; Sunset EditionData e hora: 09/05/2026 &#8211; 17:00Localização
 : Brasília &#8211; DF CUPOM DE DESCONTO 🏷️ 📢 Usando o cupom de des
 conto CORRERBRASILIA você ganha 5% de DESCONTO na sua inscrição!! 😎
 🔥 (Não vale para o kit básico) 🌍🏃‍♂️ Vem aí a[..]\nhttp
 s://correrbrasilia.com.br/events/19a-corrida-uniao-europeia-sunset-edition/
URL:https://correrbrasilia.com.br/events/19a-corrida-uniao-europeia-sunset-edition/
END:VEVENT
END:VCALENDAR