BEGIN:VCALENDAR
VERSION:2.0
PRODID:-//eventon.com NONSGML v1.0//EN
CALSCALE:GREGORIAN
METHOD:PUBLISH
BEGIN:VEVENT
UID:69eaf90d75e43
DTSTAMP:20260424T050101Z
DTSTART:20260426T100000Z
DTEND:20260427T025900Z
LOCATION:Praça do Buriti Zona Cívico-Administrativa - Brasília\,  DF\,  70297-400
SUMMARY:Circuito da Longevidade Bradesco Seguros - 2026 - Brasília
DESCRIPTION:O Circuito da Longevidade Bradesco Seguros é um projeto realiz
 ado por meio da Lei de Incentivo ao Esporte\,  que promove a qualidade de v
 ida e o bem-estar em diversas fases da vida\,  não só para os mais velhos
 \,  mas também para quem deseja começar agora\,  em qualquer etapa da vid
 a.[..]\nhttps://correrbrasilia.com.br/events/circuito-da-longevidade-brades
 co-seguros-2026-brasilia/
URL:https://correrbrasilia.com.br/events/circuito-da-longevidade-bradesco-seguros-2026-brasilia/
END:VEVENT
END:VCALENDAR