BEGIN:VCALENDAR
VERSION:2.0
PRODID:-//eventon.com NONSGML v1.0//EN
CALSCALE:GREGORIAN
METHOD:PUBLISH
BEGIN:VEVENT
UID:69eaf8ca7ae99
DTSTAMP:20260424T045954Z
DTSTART:20260830T100000Z
DTEND:20260831T025900Z
LOCATION:Esplanada dos Ministérios Museu Nacional da República
SUMMARY:GRAND PREMIUM BRASIL - BRASÍLIA
DESCRIPTION:SOBRE O EVENTO 📅 Data oficial: 30 de agosto de 2026🌆 Capi
 tais-sede: 27 capitais do Brasil (avenidas e pontos turísticos com vias of
 iciais de cada cidade)⏱️ Formato: largada e chegada simultâneas nas ca
 pitais🎯 Propósito/impacto: integrar modalidades esportivas\,  revelar n
 ovos talentos\,  fortalecer o atletismo e as corridas de rua com visibilida
 de[..]\nhttps://correrbrasilia.com.br/events/grand-premium-brasil-brasilia/
URL:https://correrbrasilia.com.br/events/grand-premium-brasil-brasilia/
END:VEVENT
END:VCALENDAR