BEGIN:VCALENDAR
VERSION:2.0
PRODID:-//eventon.com NONSGML v1.0//EN
CALSCALE:GREGORIAN
METHOD:PUBLISH
BEGIN:VEVENT
UID:69eaf8ee8c82c
DTSTAMP:20260424T050030Z
DTSTART:20260531T100000Z
DTEND:20260531T120000Z
LOCATION:Shopping Conjunto Nacional SDN\,  CNB – Asa Norte\,  Brasília – DF\,  70077-900
SUMMARY:Circuito Desbrava Brasília 2026
DESCRIPTION:DESBRAVA ETAPA BRASÍLIA Essa é a sua chance de deixar sua mar
 ca na pista na 3ª edição do DESBRAVA! Prepare-se para uma experiência q
 ue vai muito além da corrida:&nbsp;Kit exclusivo Under Armour\,  além de 
 ativações que fazem cada quilômetro valer a pena. É o seu momento de tr
 ansformar a pista[..]\nhttps://correrbrasilia.com.br/events/circuito-desbra
 va-brasilia-2026/
URL:https://correrbrasilia.com.br/events/circuito-desbrava-brasilia-2026/
END:VEVENT
END:VCALENDAR