BEGIN:VCALENDAR
VERSION:2.0
PRODID:-//eventon.com NONSGML v1.0//EN
CALSCALE:GREGORIAN
METHOD:PUBLISH
BEGIN:VEVENT
UID:69eaf8edbe739
DTSTAMP:20260424T050029Z
DTSTART:20260503T120000Z
DTEND:20260504T025900Z
LOCATION:Estacionamento da Unieuro – Águas Claras/DF Av. das Castanheiras\,  s/n - Lote 3700 - Águas Claras\,  Brasília - DF\,  70297-400
SUMMARY:Ôh geladim! CORRIDA KIDS
DESCRIPTION:SOBRE O EVENTO 🏃‍♀️ CORRIDA DE RUA KIDS ÔH GELADIM! A
  corrida acontecerá no dia 03 de maio\,  às 9h\,  no estacionamento da Un
 ieuro – Águas Claras\,  em comemoração ao aniversário da cidade de Á
 guas Claras. A iniciativa tem como objetivo estimular a prática esportiva 
 entre crianças\,  promover saúde e[..]\nhttps://correrbrasilia.com.br/eve
 nts/oh-geladim-corrida-kids/
URL:https://correrbrasilia.com.br/events/oh-geladim-corrida-kids/
END:VEVENT
END:VCALENDAR