BEGIN:VCALENDAR
VERSION:2.0
PRODID:-//eventon.com NONSGML v1.0//EN
CALSCALE:GREGORIAN
METHOD:PUBLISH
BEGIN:VEVENT
UID:69e52ed7db403
DTSTAMP:20260419T193655Z
DTSTART:20260517T100000Z
DTEND:20260518T025900Z
LOCATION:A definir
SUMMARY:Netshoes Run 2026 - Brasília
DESCRIPTION:Vem aí a Netshoes Run para você sentir a energia da corrida
  de rua e se movimentar do seu jeito! Uma experiência leve animada que cel
 ebra a saúde\,  o bem-estar e a alegria de cruzar a linha de chegada respe
 itando o seu tempo. Porque aqui\,  o importante é participar\,  se desafia
 r e\, [..]\nhttps://correrbrasilia.com.br/events/netshoes-run-2026-brasilia
 /
URL:https://correrbrasilia.com.br/events/netshoes-run-2026-brasilia/
END:VEVENT
END:VCALENDAR