BEGIN:VCALENDAR
VERSION:2.0
PRODID:-//eventon.com NONSGML v1.0//EN
CALSCALE:GREGORIAN
METHOD:PUBLISH
BEGIN:VEVENT
UID:69e52e8dd1fb0
DTSTAMP:20260419T193541Z
DTSTART:20260621T100000Z
DTEND:20260622T025900Z
LOCATION:Plano Piloto – Distrito Federal
SUMMARY:Circuito Corre Que Dá Bom Pelo Mundo - Brasil
DESCRIPTION:INFORMAÇÕES GERAIS Nome do evento: Circuito Corre Que da Bom 
 Pelo Mundo &#8211; BrasilData e hora: 21/06/2026 &#8211; 07:00Localização
 : Brasilia &#8211; DFWhatsapp: (61)9 8404.5994 CUPOM DE DESCONTO 🏷️ 
  Usando o cupom de desconto CORRERBRASILIA10 você ganha R$ 10\, 00 de DE
 SCONTO na sua inscrição!! 😎🎉🔥 A 2ª Etapa do Circuito[..]\nhttps
 ://correrbrasilia.com.br/events/circuito-corre-que-da-bom-pelo-mundo-brasil
 /
URL:https://correrbrasilia.com.br/events/circuito-corre-que-da-bom-pelo-mundo-brasil/
END:VEVENT
END:VCALENDAR