BEGIN:VCALENDAR
VERSION:2.0
PRODID:-//eventon.com NONSGML v1.0//EN
CALSCALE:GREGORIAN
METHOD:PUBLISH
BEGIN:VEVENT
UID:69eaf6cdbadd2
DTSTAMP:20260424T045125Z
DTSTART:20260822T200000Z
DTEND:20260823T025900Z
LOCATION:Parque da Cidade - Estacionamento 07
SUMMARY:Quatro Poderes Run 2026
DESCRIPTION:INFORMAÇÕES GERAIS Nome do evento: Quatro Poderes Run 2026Dat
 a e hora: 22/08/2026 &#8211; 17:00Localização: Brasília &#8211; DF CUPOM
  DE DESCONTO 🏷️ 📢 Usando o cupom de desconto CORRERBRASILIA você g
 anha 8% de DESCONTO na sua inscrição!! 😎🎉🔥 (Não vale para o kit
  básico 🏃‍♂️✨ Vem aí a 3ª Quatro Poderes[..]\nhttps://correrb
 rasilia.com.br/events/quatro-poderes-run-2026/
URL:https://correrbrasilia.com.br/events/quatro-poderes-run-2026/
END:VEVENT
END:VCALENDAR