BEGIN:VCALENDAR
VERSION:2.0
PRODID:-//eventon.com NONSGML v1.0//EN
CALSCALE:GREGORIAN
METHOD:PUBLISH
BEGIN:VEVENT
UID:69eaf8cb3a82e
DTSTAMP:20260424T045955Z
DTSTART:20260808T200000Z
DTEND:20260809T025900Z
LOCATION:Esplanada dos MinistÃ©rios Museu Nacional da RepÃºblica
SUMMARY:9Âª Corrida De Olho Na SaÃºde
DESCRIPTION:INFORMAÃ‡Ã•ES GERAIS Nome do evento: 9Âº Corrida de Olho na SaÃ
 ºdeData e hora: 08/08/2026 &#8211; 17:00LocalizaÃ§Ã£o: BrasÃ­lia &#8211; DF
  9Âº Corrida de Olho na SaÃºdeA 9Âª Corrida de Olho na SaÃºde Ã© um evento 
 esportivo que promove a corrida inclusiva e a conscientizaÃ§Ã£o sobre a imp
 ortÃ¢ncia da saÃºde e da[..]\nhttps://correrbrasilia.com.br/events/9a-corri
 da-de-olho-na-saude/
URL:https://correrbrasilia.com.br/events/9a-corrida-de-olho-na-saude/
END:VEVENT
END:VCALENDAR