BEGIN:VCALENDAR
VERSION:2.0
PRODID:-//eventon.com NONSGML v1.0//EN
CALSCALE:GREGORIAN
METHOD:PUBLISH
BEGIN:VEVENT
UID:69e52ecc7a3c8
DTSTAMP:20260419T193644Z
DTSTART:20260517T093000Z
DTEND:20260518T025900Z
LOCATION:Esplanada dos Ministérios Em frente ao Palácio do Congresso Nacional
SUMMARY:Corrida da Câmara
DESCRIPTION:INFORMAÇÕES GERAIS Nome do evento: Corrida da CâmaraData e h
 ora: 17/05/2026 &#8211; 06:30Localização: Brasília &#8211; DF Largada e 
 chegada na Esplanada dos Ministérios\,  em frente ao Palácio do Congresso
  Nacional. Modalidades:&nbsp;caminhada de 3 km\, &nbsp;corridas de 5 km e d
 e 10 km\,  Circuito&nbsp;Plenarinho (infantil). Pela primeira vez\,  a Câm
 ara dos Deputados[..]\nhttps://correrbrasilia.com.br/events/corrida-da-cama
 ra/
URL:https://correrbrasilia.com.br/events/corrida-da-camara/
END:VEVENT
END:VCALENDAR