BEGIN:VCALENDAR
VERSION:2.0
PRODID:-//eventon.com NONSGML v1.0//EN
CALSCALE:GREGORIAN
METHOD:PUBLISH
BEGIN:VEVENT
UID:69e5319e28de7
DTSTAMP:20260419T194846Z
DTSTART:20260412T100000Z
DTEND:20260413T025900Z
LOCATION:A definir
SUMMARY:Circuito Corre Que Da Bom Pelo Mundo 2026 – Etapa Itália 5K
DESCRIPTION:INFORMAÇÕES GERAIS Nome do evento: Circuito Corre Que da bom 
 &nbsp;Pelo Mundo 2026Data e hora: 12/04/2026 &#8211; 07:00Localização: Br
 asilia &#8211; DFWhatsapp: (61)9 8404.5994 CUPOM DE DESCONTO 🏷️ 📢 U
 sando o cupom de desconto CORRERBRASILIA10 você ganha 10% de DESCONTO na s
 ua inscrição!! 😎🎉🔥 🏃‍♂️ Circuito Corre Que Dá Bom Pelo
 [..]\nhttps://correrbrasilia.com.br/events/circuito-corre-que-da-bom-pelo-m
 undo-2026-etapa-italia-5k/
URL:https://correrbrasilia.com.br/events/circuito-corre-que-da-bom-pelo-mundo-2026-etapa-italia-5k/
END:VEVENT
END:VCALENDAR