BEGIN:VCALENDAR
VERSION:2.0
PRODID:-//eventon.com NONSGML v1.0//EN
CALSCALE:GREGORIAN
METHOD:PUBLISH
BEGIN:VEVENT
UID:69e52ed7dc91f
DTSTAMP:20260419T193655Z
DTSTART:20260704T220000Z
DTEND:20260705T025900Z
LOCATION:A definir
SUMMARY:Black Night Run
DESCRIPTION:INFORMAÇÕES GERAIS Nome do evento: Black Night RunData e hora
 : 04/07/2026 &#8211; 19:00Localização: Brasília &#8211; DF Night Run –
  Etapa Black | 4ª Edição A Night Run – Etapa Black chega à sua 4ª ed
 ição\,  transformando o asfalto das ruas em um verdadeiro palco de músic
 a\,  luz e movimento. Corra[..]\nhttps://correrbrasilia.com.br/events/black
 -night-run-2/
URL:https://correrbrasilia.com.br/events/black-night-run-2/
END:VEVENT
END:VCALENDAR