BEGIN:VCALENDAR
VERSION:2.0
PRODID:-//eventon.com NONSGML v1.0//EN
CALSCALE:GREGORIAN
METHOD:PUBLISH
BEGIN:VEVENT
UID:69e52ed8ad152
DTSTAMP:20260419T193656Z
DTSTART:20260405T100000Z
DTEND:20260406T025900Z
LOCATION:Parque Internacional da Paz SEN - Plano Piloto\,  Brasília - DF
SUMMARY:Correndo Pela Paz
DESCRIPTION:INFORMAÇÕES GERAIS Nome do evento: Correndo Pela PazData e ho
 ra: 05/04/2026 &#8211; 07:00Localização: Brasília &#8211; DF ⚠️MUDAN
 ÇA DE DATA – CORRENDO PELA PAZ 2026⚠️A CORRENDO PELA PAZ 2026 será 
 realizada dia 05 de abril de 2026\,  em vez de 01/03/2026.A organização d
 a Correndo pela Paz\,  informa que\,  por motivos operacionais[..]\nhttps:/
 /correrbrasilia.com.br/events/correndo-pela-paz/
URL:https://correrbrasilia.com.br/events/correndo-pela-paz/
END:VEVENT
END:VCALENDAR