BEGIN:VCALENDAR
VERSION:2.0
PRODID:-//eventon.com NONSGML v1.0//EN
CALSCALE:GREGORIAN
METHOD:PUBLISH
BEGIN:VEVENT
UID:69eaf73e64ad8
DTSTAMP:20260424T045318Z
DTSTART:20260531T100000Z
DTEND:20260531T120000Z
LOCATION:Samambaia Sul (Ao lado da UPA de Samambaia Sul)
SUMMARY:Corrida e Caminhada Para Cristo
DESCRIPTION:INFORMAÇÕES GERAIS NOTA OFICIAL: ADIAMENTO DA &#8220;Corrida 
 e Caminhada para Cristo&#8220; A Organização da Corrida e Caminhada para
  Cristo\,  vem a público informar o adiamento da prova\,  originalmente ag
 endada para o dia 29 de Março de 2026.A corrida será realizada no dia 31
  de maio de 2026\,  com largada prevista para as 07:00[..]\nhttps://correr
 brasilia.com.br/events/corrida-e-caminhada-para-cristo/
URL:https://correrbrasilia.com.br/events/corrida-e-caminhada-para-cristo/
END:VEVENT
END:VCALENDAR