BEGIN:VCALENDAR
VERSION:2.0
PRODID:-//eventon.com NONSGML v1.0//EN
CALSCALE:GREGORIAN
METHOD:PUBLISH
BEGIN:VEVENT
UID:69eaf917cb4c5
DTSTAMP:20260424T050111Z
DTSTART:20261031T190000Z
DTEND:20261031T235900Z
LOCATION:A definir
SUMMARY:Halloween Night Run
DESCRIPTION:Vem aí a Corrida mais assustadoramente divertida do ano!A Corr
 ida Halloween está de volta para transformar a noite em um verdadeiro espe
 táculo de esporte\,  fantasia e diversão para toda a família. Um evento 
 que une saúde\,  inclusão e criatividade\,  onde cada passo entra no clim
 a misterioso do Halloween. Prepare sua[..]\nhttps://correrbrasilia.com.br/e
 vents/halloween-night-run-2/
URL:https://correrbrasilia.com.br/events/halloween-night-run-2/
END:VEVENT
END:VCALENDAR