BEGIN:VCALENDAR
VERSION:2.0
PRODID:-//eventon.com NONSGML v1.0//EN
CALSCALE:GREGORIAN
METHOD:PUBLISH
BEGIN:VEVENT
UID:69eaf6f25a1e1
DTSTAMP:20260424T045202Z
DTSTART:20260913T100000Z
DTEND:20260914T025900Z
LOCATION:Praça do Buriti Zona Cívico-Administrativa - Brasília\,  DF\,  70297-400
SUMMARY:Circuito Da Saúde ETAPA RUN SUS
DESCRIPTION:INFORMAÇÕES GERAIS Nome do evento: Circuito da Saúde ETAPA R
 UN SUSData e hora: 13/09/2026 &#8211; 07:00Localização: Brasília &#8211;
  DFWhatsapp: (61)9 8200.7257 Tá rolando: CIRCUITO DA SAÚDE 2026 1ª Etapa
  Ana Néri 03/052ª Etapa RUN SUS 13/09 A 2ª Etapa\,  RUN SUS\,  acontecer
 á no&nbsp;dia 13&nbsp;de Setembro de 2026 na Praça do[..]\nhttps://correr
 brasilia.com.br/events/circuito-da-saude-etapa-etapa-run-sus/
URL:https://correrbrasilia.com.br/events/circuito-da-saude-etapa-etapa-run-sus/
END:VEVENT
END:VCALENDAR