BEGIN:VCALENDAR
VERSION:2.0
PRODID:-//eventon.com NONSGML v1.0//EN
CALSCALE:GREGORIAN
METHOD:PUBLISH
BEGIN:VEVENT
UID:69eaf8abb00e4
DTSTAMP:20260424T045923Z
DTSTART:20260503T100000Z
DTEND:20260504T025900Z
LOCATION:Memorial dos Povos Indígenas Zona Cívico-Administrativa Em frente ao Memorial JK\,  Brasília - DF\,  70070-300
SUMMARY:Circuito Da Saúde ETAPA ANA NÉRI
DESCRIPTION:INFORMAÇÕES GERAIS Nome do evento: Circuito da Saúde ETAPA A
 NA NÉRIData e hora: 03/05/2026 &#8211; 07:00Localização: Brasília &#821
 1; DFWhatsapp: (61)9 8200.7257 Vem aí: CIRCUITO DA SAÚDE 2026 1ª Etapa A
 na Néri 03/052ª Etapa RUN SUS 13/09 Adquira na 1ª Etapa o PORTA-MEDALHAS
  do CIRCUITO DA SAÚDE por R$ 46\, 00 A[..]\nhttps://correrbrasilia.com.br/
 events/circuito-da-saude-etapa-ana-neri/
URL:https://correrbrasilia.com.br/events/circuito-da-saude-etapa-ana-neri/
END:VEVENT
END:VCALENDAR