BEGIN:VCALENDAR
VERSION:2.0
PRODID:-//eventon.com NONSGML v1.0//EN
CALSCALE:GREGORIAN
METHOD:PUBLISH
BEGIN:VEVENT
UID:69eaf71fb2b84
DTSTAMP:20260424T045247Z
DTSTART:20260614T100000Z
DTEND:20260615T025900Z
LOCATION:Esplanada dos Ministérios Museu Nacional da República
SUMMARY:35ª Corrida Do Fogo - CBMDF
DESCRIPTION:INFORMAÇÕES GERAIS Em 2026\,  iniciamos um ano muito especial
  para o Corpo de Bombeiros Militar do Distrito Federal. Celebramos&nbsp;170
  anos de história\,  marcados por coragem\,  dedicação\,  profissionalis
 mo e compromisso inabalável com a proteção da vida\,  do patrimônio e d
 o meio ambiente.São quase dois séculos de uma trajetória construída com
  sacrifício\, [..]\nhttps://correrbrasilia.com.br/events/35a-corrida-do-fo
 go-cbmdf/
URL:https://correrbrasilia.com.br/events/35a-corrida-do-fogo-cbmdf/
END:VEVENT
END:VCALENDAR