BEGIN:VCALENDAR
VERSION:2.0
PRODID:-//eventon.com NONSGML v1.0//EN
CALSCALE:GREGORIAN
METHOD:PUBLISH
BEGIN:VEVENT
UID:69eaf71f4ef8d
DTSTAMP:20260424T045247Z
DTSTART:20260620T200000Z
DTEND:20260621T025900Z
LOCATION:Praça do Cruzeiro Zona Cívico-Administrativa - Brasília\,  DF\,  70297-400
SUMMARY:2º Super Sunset Run - 20 Anos da Super Adega
DESCRIPTION:INFORMAÇÕES GERAIS Nome do evento: 2º Super Sunset Run &#821
 1; 20 Anos da Super AdegaData e hora: 20/06/2026 &#8211; 17:00Localização
 : Brasília &#8211; DF O EVENTO Prepare-se para viver um fim de tarde ainda
  mais inesquecível na capital! No dia&nbsp;20 de Junho de 2026\,  às 17h\
 ,  a&nbsp;Praça do Cruzeiro será palco[..]\nhttps://correrbrasilia.com.br
 /events/2o-super-sunset-run-20-anos-da-super-adega/
URL:https://correrbrasilia.com.br/events/2o-super-sunset-run-20-anos-da-super-adega/
END:VEVENT
END:VCALENDAR