BEGIN:VCALENDAR
VERSION:2.0
PRODID:-//eventon.com NONSGML v1.0//EN
CALSCALE:GREGORIAN
METHOD:PUBLISH
BEGIN:VEVENT
UID:69eb1dbdc68fc
DTSTAMP:20260424T073733Z
DTSTART:20260524T090000Z
DTEND:20260525T025900Z
LOCATION:Parque da Cidade - Estacionamento 6 Srps - Brasília\,  DF\,  70390-055
SUMMARY:21K PARQUE D. SARAH KUBITSCHEK 2026
DESCRIPTION:SOBRE O EVENTO A PROVA SERÁ REALIZADA NO PARQUE DA CIDADE\,  C
 OM PERCURSOS DE 5 KM\,  10 KM E 21 KM\,  REUNINDO ATLETAS DE DIFERENTES NÍ
 VEIS EM UM AMBIENTE QUE VALORIZA O ESPORTE\,  A SAÚDE E A QUALIDADE DE VID
 A. A EDIÇÃO 2026 CONSOLIDA-SE COMO UM EVENTO ESPORTIVO TRADICIONAL DO[..]
 \nhttps://correrbrasilia.com.br/events/21k-parque-d-sarah-kubitschek-2026/
URL:https://correrbrasilia.com.br/events/21k-parque-d-sarah-kubitschek-2026/
END:VEVENT
END:VCALENDAR