BEGIN:VCALENDAR
VERSION:2.0
PRODID:-//eventon.com NONSGML v1.0//EN
CALSCALE:GREGORIAN
METHOD:PUBLISH
BEGIN:VEVENT
UID:69eb242f3c6ad
DTSTAMP:20260424T080503Z
DTSTART:20260419T090000Z
DTEND:20260420T025900Z
LOCATION:Praça do Buriti Zona Cívico-Administrativa - Brasília\,  DF\,  70297-400
SUMMARY:LIVE!21K XP - BRASÍLIA 2026
DESCRIPTION:LIVE!21K&nbsp;XP&nbsp;&#8211;&nbsp;BRASÍLIA&nbsp;2026 Muito&nb
 sp;além&nbsp;da&nbsp;corrida\, &nbsp;um&nbsp;momento&nbsp;de&nbsp;vibraç
 o&nbsp;e&nbsp;conexão!&nbsp;Escolha&nbsp;entre&nbsp;5&nbsp;km\, &nbsp;10&
 nbsp;km&nbsp;ou&nbsp;Corrida&nbsp;Kids&nbsp;e&nbsp;aproveite&nbsp;a&nbsp;Ar
 ena&nbsp;LIVE!\, &nbsp;com&nbsp;música\, &nbsp;bem-estar&nbsp;e&nbsp;ativa
 ções&nbsp;exclusivas. Inscreva-se&nbsp;e&nbsp;venha&nbsp;sentir&nbsp;o&nb
 sp;ritmo&nbsp;da&nbsp;LIVE!&nbsp;RUN&nbsp;XP. Local&nbsp;de&nbsp;largada:&n
 bsp;Praça do Buriti &#8211; Setor de Administração Municipal (SAM)\,  Ei
 xo Monumental &#8211; Plano Piloto – Brasília/DF &#8211; CEP: 70075-900 
 * SUJEITO A ALTERAÇÕES CUPOM DE DESCONTO 🏷️ 📢 Usando o cupom de d
 esconto CORRERBRASILIA15 você ganha 15% de DESCONTO na sua inscrição!! 
 🎉🔥 Retirada de kits Período&nbsp;de&nbsp;entrega&nbsp;de&nbsp;kit
 &nbsp;a&nbsp;confirmar[..]\nhttps://correrbrasilia.com.br/events/live21k-xp
 -brasilia-2026/
URL:https://correrbrasilia.com.br/events/live21k-xp-brasilia-2026/
END:VEVENT
END:VCALENDAR