BEGIN:VCALENDAR
VERSION:2.0
PRODID:-//eventon.com NONSGML v1.0//EN
CALSCALE:GREGORIAN
METHOD:PUBLISH
BEGIN:VEVENT
UID:69eaf91856d97
DTSTAMP:20260424T050112Z
DTSTART:20260501T100000Z
DTEND:20260502T025900Z
LOCATION:Renascer Park\,  Pirenópolis - GO GO-338\,  17 - Zona Rural\,  Pirenópolis - GO\,  72980-000
SUMMARY:ULTRA ADVENTURE RACE - THE NEW JOURNEY
DESCRIPTION:Ultra Adventure Race 2026 – Crazy for Fun Etapa: Adventure Ra
 ce &#8220;THE NEW JOURNEY&#8221;Local: POUSADA RENASCER PARK &#8211; PIREN
 POLIS &#8211; GODatas: 01 a 03 de maio de 2026 CUPOM DE DESCONTO 🏷️ 
  Usando o cupom de desconto CORRERBSB10 você ganha 10% de DESCONTO na s
 ua inscrição!! 😎🎉🔥 Cronograma de[..]\nhttps://correrbrasilia.com
 .br/events/ultra-adventure-race-the-new-journey/
URL:https://correrbrasilia.com.br/events/ultra-adventure-race-the-new-journey/
END:VEVENT
END:VCALENDAR