BEGIN:VCALENDAR
VERSION:2.0
PRODID:-//eventon.com NONSGML v1.0//EN
CALSCALE:GREGORIAN
METHOD:PUBLISH
BEGIN:VEVENT
UID:69eaf575ed4fc
DTSTAMP:20260424T044541Z
DTSTART:20261219T220000Z
DTEND:20261220T025900Z
LOCATION:Memorial dos Povos Indígenas Zona Cívico-Administrativa Em frente ao Memorial JK\,  Brasília - DF\,  70070-300
SUMMARY:JINGLE BELLS 2026
DESCRIPTION:INFORMAÇÕES GERAIS Nome do evento: JINGLE BELLS 2026Data e ho
 ra: 19/12/2026 &#8211; 19:00Localização: Brasília &#8211; DFWhatsapp: (6
 1)9 8200.7257 INSCRIÇÕES ABERTAS! JINGLE BELLSUm encanto! Uma corrida! En
 trega do KIT Em breve!\nhttps://correrbrasilia.com.br/events/jingle-bells-2
 026/
URL:https://correrbrasilia.com.br/events/jingle-bells-2026/
END:VEVENT
END:VCALENDAR