BEGIN:VCALENDAR
VERSION:2.0
PRODID:-//eventon.com NONSGML v1.0//EN
CALSCALE:GREGORIAN
METHOD:PUBLISH
BEGIN:VEVENT
UID:69eaf576ec71b
DTSTAMP:20260424T044542Z
DTSTART:20260523T200000Z
DTEND:20260524T025900Z
LOCATION:Esplanada dos Ministérios Museu Nacional da República
SUMMARY:Onerun Sunset 2026
DESCRIPTION:INFORMAÇÕES GERAIS Nome do evento: Onerun Sunset 2026Data e h
 ora: 23/05/2026 &#8211; 17:00Localização: Brasília &#8211; DF CUPOM DE D
 ESCONTO 🏷️ 📢 Usando o cupom de desconto CORRERBRASILIA você ganha 
 10% de DESCONTO na sua inscrição!! 😎🎉🔥(Válido para todos os kit
 s) A One Run é a maior meia maratona internacional realizada[..]\nhttps://
 correrbrasilia.com.br/events/onerun-sunset-2026/
URL:https://correrbrasilia.com.br/events/onerun-sunset-2026/
END:VEVENT
END:VCALENDAR