BEGIN:VCALENDAR
VERSION:2.0
PRODID:-//eventon.com NONSGML v1.0//EN
CALSCALE:GREGORIAN
METHOD:PUBLISH
BEGIN:VEVENT
UID:69eaf72035c11
DTSTAMP:20260424T045248Z
DTSTART:20260830T074000Z
DTEND:20260831T025900Z
LOCATION:Paço Municipal de Goiânia Av. do Cerrado\,  999 - Park Lozandes\,  Goiânia - GO\,  74884-092
SUMMARY:13ª Maratona em Movimento
DESCRIPTION:\nhttps://correrbrasilia.com.br/events/13a-maratona-em-moviment
 o/
URL:https://correrbrasilia.com.br/events/13a-maratona-em-movimento/
END:VEVENT
END:VCALENDAR