BEGIN:VCALENDAR
VERSION:2.0
PRODID:-//eventon.com NONSGML v1.0//EN
CALSCALE:GREGORIAN
METHOD:PUBLISH
BEGIN:VEVENT
UID:69eaf6f1daa18
DTSTAMP:20260424T045201Z
DTSTART:20261031T073000Z
DTEND:20261031T235900Z
LOCATION:PraÃ§a do Bambu R. do Moinho\,  206-224 - Alto ParaÃ­so de GoiÃ¡s\,  GO\,  73770-000
SUMMARY:MOUNTAIN DO CHAPADA DOS VEADEIROS 2026
DESCRIPTION:SOBRE O EVENTO Prepare-se para viver uma experiÃªncia Ãºnica de
  corrida em meio Ã s belezas naturais da Chapada dos Veadeiros! O Mountain 
 Do chega a Alto do ParaÃ­so de GoiÃ¡s com percursos desafiadores\,  naturez
 a exuberante e uma atmosfera de superaÃ§Ã£o e aventura! PERCURSO ðŸŒ„ DISTÃ
 ‚NCIAS:&#8211; 21 km â€“ Para os[..]\nhttps://correrbrasilia.com.br/events/
 mountain-do-chapada-dos-veadeiros-2026/
URL:https://correrbrasilia.com.br/events/mountain-do-chapada-dos-veadeiros-2026/
END:VEVENT
END:VCALENDAR