BEGIN:VCALENDAR
VERSION:2.0
PRODID:-//eventon.com NONSGML v1.0//EN
CALSCALE:GREGORIAN
METHOD:PUBLISH
BEGIN:VEVENT
UID:69eaf6f2c92a6
DTSTAMP:20260424T045202Z
DTSTART:20260830T100000Z
DTEND:20260831T025900Z
LOCATION:Praça do Buriti Zona Cívico-Administrativa - Brasília\,  DF\,  70297-400
SUMMARY:NUTRIÇÃO BRASIL RUN 2026
DESCRIPTION:NUTRIÇÃO BRASIL RUN 2026 🏃‍♂️ NUTRIÇÃO BRASIL RUN 
 — A CORRIDA MAIS NUTRITIVA DO BRASIL! 💥📍 Brasília &#8211; DF | 30 
 de agosto🗓️ Em comemoração ao Dia do Nutricionista Você já correu
  mas nunca em um evento como esse. A Nutrição Brasil RUN é a única co
 rrida de rua do[..]\nhttps://correrbrasilia.com.br/events/nutricao-brasil-r
 un-2026/
URL:https://correrbrasilia.com.br/events/nutricao-brasil-run-2026/
END:VEVENT
END:VCALENDAR