BEGIN:VCALENDAR
VERSION:2.0
PRODID:-//eventon.com NONSGML v1.0//EN
CALSCALE:GREGORIAN
METHOD:PUBLISH
BEGIN:VEVENT
UID:69eb0926f057a
DTSTAMP:20260424T060942Z
DTSTART:20260517T090000Z
DTEND:20260518T025900Z
LOCATION:Complexo Veredas Estrada Colinas do Sul\,  Km 6\,  Cavalcante-GO
SUMMARY:Corridas de Montanha - Chapada dos Veadeiros 2026
DESCRIPTION:SOBRE O EVENTO Data: 17 de Maio de 2026 HorÃ¡rios de Largada06:
 00 ENDURANCE07:50 LONGO08:00 MEDIO08:30 CURTO e CAMINHADA LocalCOMPLEXO VER
 EDASESTRADA COLINAS DO SUL\,  KM 6CAVALCANTE &#8211; GO KIT DE PARTICIPAÃ‡Ã
 ƒO CamisetaBandanaToalhinhaCanecaSacochilaMedalha de FinisherHidrataÃ§Ã£o p
 Ã³s provaServiÃ§o MÃ©dico de EmergÃªnciaÂ PremiaÃ§Ã£o por faixa etÃ¡riaCert
 ificado de participaÃ§Ã£oInscriÃ§Ã£o no ranking da Copa Centro-Oeste Corrid
 as de[..]\nhttps://correrbrasilia.com.br/events/corridas-de-montanha-chapad
 a-dos-veadeiros-2026/
URL:https://correrbrasilia.com.br/events/corridas-de-montanha-chapada-dos-veadeiros-2026/
END:VEVENT
END:VCALENDAR