BEGIN:VCALENDAR
VERSION:2.0
PRODID:-//eventon.com NONSGML v1.0//EN
CALSCALE:GREGORIAN
METHOD:PUBLISH
BEGIN:VEVENT
UID:69eaf73f4e1c9
DTSTAMP:20260424T045319Z
DTSTART:20260503T100000Z
DTEND:20260504T025900Z
LOCATION:Torre de TV - FUNARTE Setor de Divulgação Cultural Lote 02
SUMMARY:Desafio das Torres
DESCRIPTION:SOBRE O EVENTO Participe da corrida que une marcos da Capital. 
 O Desafio das Torres celebra a paixão pelo esporte e a cultura local\,  pr
 omovendo saúde\,  união e o espírito competitivo em um percurso que cone
 cta dois símbolos de Brasília. A Corrida Desafio das Torres é uma&nbsp;M
 eia Maratona&nbsp;(21km) a ser[..]\nhttps://correrbrasilia.com.br/events/de
 safio-das-torres/
URL:https://correrbrasilia.com.br/events/desafio-das-torres/
END:VEVENT
END:VCALENDAR