BEGIN:VCALENDAR
VERSION:2.0
PRODID:-//eventon.com NONSGML v1.0//EN
CALSCALE:GREGORIAN
METHOD:PUBLISH
BEGIN:VEVENT
UID:69eacba21a02b
DTSTAMP:20260424T014714Z
DTSTART:20260801T210000Z
DTEND:20260802T025900Z
LOCATION:Esplanada dos Ministérios Museu Nacional da República
SUMMARY:LIVE!42k - Brasília 2026 (5km e 10km)
DESCRIPTION:CUPOM DE DESCONTO 🏷️ 📢 Usando o cupom de desconto CORRE
 RBRASILIA15 você ganha 15% de DESCONTO na sua inscrição!! 😎🎉🔥 K
 ITS Kit Básico (10 km e 5 km): Camiseta\,  Medalha\,  Sport Bag\,  Número
  de peito\nhttps://correrbrasilia.com.br/events/live42k-brasilia-2026-5km-e
 -10km/
URL:https://correrbrasilia.com.br/events/live42k-brasilia-2026-5km-e-10km/
END:VEVENT
END:VCALENDAR