BEGIN:VCALENDAR
VERSION:2.0
PRODID:-//eventon.com NONSGML v1.0//EN
CALSCALE:GREGORIAN
METHOD:PUBLISH
BEGIN:VEVENT
UID:69eaf90d3bf7b
DTSTAMP:20260424T050101Z
DTSTART:20260802T080000Z
DTEND:20260803T025900Z
LOCATION:Esplanada dos Ministérios Museu Nacional da República
SUMMARY:LIVE!42k - Brasília 2026 (21km e 42km)
DESCRIPTION:CUPOM DE DESCONTO 🏷️ 📢 Usando o cupom de desconto CORRE
 RBRASILIA15 você ganha 15% de DESCONTO na sua inscrição!! 😎🎉🔥\n
 https://correrbrasilia.com.br/events/live42k-brasilia-2026-21km-e-42km/
URL:https://correrbrasilia.com.br/events/live42k-brasilia-2026-21km-e-42km/
END:VEVENT
END:VCALENDAR